BEGIN:VCALENDAR
VERSION:2.0
PRODID:-//dummy fecon uii - ECPv6.15.18//NONSGML v1.0//EN
CALSCALE:GREGORIAN
METHOD:PUBLISH
X-ORIGINAL-URL:https://fecon.uii.ac.id/dummy
X-WR-CALDESC:Events for dummy fecon uii
REFRESH-INTERVAL;VALUE=DURATION:PT1H
X-Robots-Tag:noindex
X-PUBLISHED-TTL:PT1H
BEGIN:VTIMEZONE
TZID:UTC
BEGIN:STANDARD
TZOFFSETFROM:+0000
TZOFFSETTO:+0000
TZNAME:UTC
DTSTART:20180101T000000
END:STANDARD
END:VTIMEZONE
BEGIN:VEVENT
DTSTART;VALUE=DATE:20191023
DTEND;VALUE=DATE:20191025
DTSTAMP:20260420T022346
CREATED:20190712T123923Z
LAST-MODIFIED:20190712T131807Z
UID:147-1571788800-1571961599@fecon.uii.ac.id
SUMMARY:The 3rd UII International Conference on Accounting\, Business\, and Economics (UII-ICABE) 2019
DESCRIPTION:In 2015 and 2017\, Faculty of Economics\, Universitas Islam Indonesia in collaboration with internatioal partner universities\, has successfully held the 1st and the 2nd International Conference on Accounting\, Business and Economics (ICABE)\, which was attended by domestic and international participants. \nIn total\, there are 100 selected papers in business\, accounting\, and economics were presented during the conference. As our commitment to contribute to continuous knowledge dissemination\, this year we are going to conduct the 3rd International Conference on Accounting\, Business and Economics to encourage international collaboration\, idea-sharing facilitation and networking in the field of Accounting\, Business and Economics.
URL:https://fecon.uii.ac.id/dummy/event/the-3rd-uii-international-conference-on-accounting-business-and-economics-uii-icabe-2019/
LOCATION:Royal Ambarrukmo\, Jl. Laksda Adisucipto No.81\, Ambarukmo\, Caturtunggal\, Depok\, Sleman\, Yogyakarta\, 55281\, Indonesia
ORGANIZER;CN="Fakultas Ekonomi UII":MAILTO:icabe@uii.ac.id
END:VEVENT
BEGIN:VEVENT
DTSTART;VALUE=DATE:20190819
DTEND;VALUE=DATE:20190824
DTSTAMP:20260420T022346
CREATED:20190808T091207Z
LAST-MODIFIED:20190808T091207Z
UID:437-1566172800-1566604799@fecon.uii.ac.id
SUMMARY:Summer Course on Islamic Accounting & Finance 2019
DESCRIPTION:BATCH 1\nPendaftaran: 23-30 Juli 2019\nSeleksi: 31 Juli 2019\nPengumuman: 1 Agustus 2019
URL:https://fecon.uii.ac.id/dummy/event/summer-course-on-islamic-accounting-finance-2019/
LOCATION:Fakultas Ekonomi UII\, Ringroad Utara\, Condongcatur\, Sleman\, Yogyakarta\, 55283\, Indonesia
ORGANIZER;CN="Fakultas Ekonomi UII":MAILTO:icabe@uii.ac.id
END:VEVENT
END:VCALENDAR